BEGIN:VCALENDAR
VERSION:2.0
PRODID:-//demosphere.net//NONSGML kigkonsult.se iCalcreator 2.22.1//
METHOD:REQUEST
X-WR-TIMEZONE:Europe/Paris
BEGIN:VEVENT
UID:https://safe.tarn.demosphere.net/rv/976
DTSTAMP:20130510T190000Z
DESCRIPTION:plus d'infos sur : https://safe.tarn.demosphere.net/rv/976
DTSTART:20130510T190000Z
DTEND:20130510T200000Z
GEO:+43.759597;+1.988911
LOCATION:Graulhet\, \nParc de la Bousquetarié \nGraulhet
SUMMARY:Ibère Familier : Concert GROB N'roll
URL:https://safe.tarn.demosphere.net/rv/976
END:VEVENT
END:VCALENDAR
