BEGIN:VCALENDAR
VERSION:2.0
PRODID:-//demosphere.net//NONSGML kigkonsult.se iCalcreator 2.22.1//
METHOD:REQUEST
X-WR-TIMEZONE:Europe/Paris
BEGIN:VEVENT
UID:https://safe.tarn.demosphere.net/rv/9075
DTSTAMP:20180520T080000Z
DESCRIPTION:plus d'infos sur : https://safe.tarn.demosphere.net/rv/9075
DTSTART:20180520T080000Z
DTEND:20180520T090000Z
GEO:+43.759597;+1.988911
LOCATION:Graulhet\, \nParc de la Bousquetarié \nGraulhet
SUMMARY:Biocybèle : La Foire de l'agriculture bio et des alternatives
URL:https://safe.tarn.demosphere.net/rv/9075
END:VEVENT
END:VCALENDAR
