BEGIN:VCALENDAR
VERSION:2.0
PRODID:-//demosphere.net//NONSGML kigkonsult.se iCalcreator 2.22.1//
METHOD:REQUEST
X-WR-TIMEZONE:Europe/Paris
BEGIN:VEVENT
UID:https://safe.tarn.demosphere.net/rv/872
DTSTAMP:20130124T193000Z
DESCRIPTION:plus d'infos sur : https://safe.tarn.demosphere.net/rv/872
DTSTART:20130124T193000Z
DTEND:20130124T203000Z
GEO:+44.07285;+1.801892
LOCATION:Vaour\, \nLe Muret
SUMMARY:Soirée Débat l'Ayraultport\, pourquoi?
URL:https://safe.tarn.demosphere.net/rv/872
END:VEVENT
END:VCALENDAR
