BEGIN:VCALENDAR
VERSION:2.0
PRODID:-//demosphere.net//NONSGML kigkonsult.se iCalcreator 2.22.1//
METHOD:REQUEST
X-WR-TIMEZONE:Europe/Paris
BEGIN:VEVENT
UID:https://safe.tarn.demosphere.net/rv/812
DTSTAMP:20130118T023300Z
DESCRIPTION:plus d'infos sur : https://safe.tarn.demosphere.net/rv/812
DTSTART;VALUE=DATE:20130118
GEO:+43.759597;+1.988911
LOCATION:Graulhet\, \nParc de la Bousquetarié \nGraulhet
SUMMARY:La Fanfare de Guitares
URL:https://safe.tarn.demosphere.net/rv/812
END:VEVENT
END:VCALENDAR
