BEGIN:VCALENDAR
VERSION:2.0
PRODID:-//demosphere.net//NONSGML kigkonsult.se iCalcreator 2.22.1//
METHOD:REQUEST
X-WR-TIMEZONE:Europe/Paris
BEGIN:VEVENT
UID:https://safe.tarn.demosphere.net/rv/766
DTSTAMP:20121208T170000Z
DESCRIPTION:plus d'infos sur : https://safe.tarn.demosphere.net/rv/766
DTSTART:20121208T170000Z
DTEND:20121208T180000Z
GEO:+43.759597;+1.988911
LOCATION:Graulhet\, \nParc de la Bousquetarié \nGraulhet
SUMMARY:Marché des créateurs : vernissage en musique
URL:https://safe.tarn.demosphere.net/rv/766
END:VEVENT
END:VCALENDAR
