BEGIN:VCALENDAR
VERSION:2.0
PRODID:-//demosphere.net//NONSGML kigkonsult.se iCalcreator 2.22.1//
METHOD:REQUEST
X-WR-TIMEZONE:Europe/Paris
BEGIN:VEVENT
UID:https://safe.tarn.demosphere.net/rv/7230
DTSTAMP:20170604T080000Z
DESCRIPTION:plus d'infos sur : https://safe.tarn.demosphere.net/rv/7230
DTSTART:20170604T080000Z
DTEND:20170604T090000Z
GEO:+43.759597;+1.988911
LOCATION:Graulhet\, \nParc de la Bousquetarié \nGraulhet
SUMMARY:BIOCYBÈLE La plus grande foire bio du sud-ouest
URL:https://safe.tarn.demosphere.net/rv/7230
END:VEVENT
END:VCALENDAR
