BEGIN:VCALENDAR
VERSION:2.0
PRODID:-//demosphere.net//NONSGML kigkonsult.se iCalcreator 2.22.1//
METHOD:REQUEST
X-WR-TIMEZONE:Europe/Paris
BEGIN:VEVENT
UID:https://safe.tarn.demosphere.net/rv/719
DTSTAMP:20121124T193000Z
DESCRIPTION:plus d'infos sur : https://safe.tarn.demosphere.net/rv/719
DTSTART:20121124T193000Z
DTEND:20121124T203000Z
GEO:+43.759597;+1.988911
LOCATION:Graulhet\, \nParc de la Bousquetarié \nGraulhet
SUMMARY:Bœuf à l'ibère familier
URL:https://safe.tarn.demosphere.net/rv/719
END:VEVENT
END:VCALENDAR
