BEGIN:VCALENDAR
VERSION:2.0
PRODID:-//demosphere.net//NONSGML kigkonsult.se iCalcreator 2.22.1//
METHOD:REQUEST
X-WR-TIMEZONE:Europe/Paris
BEGIN:VEVENT
UID:https://safe.tarn.demosphere.net/rv/71
DTSTAMP:20120306T023300Z
DESCRIPTION:plus d'infos sur : https://safe.tarn.demosphere.net/rv/71
DTSTART;VALUE=DATE:20120306
GEO:+43.759597;+1.988911
LOCATION:Graulhet\, \nParc de la Bousquetarié \nGraulhet
SUMMARY:Réunion du groupe de coopérateurs IéS et sympathisants du Tarn
URL:https://safe.tarn.demosphere.net/rv/71
END:VEVENT
END:VCALENDAR
