BEGIN:VCALENDAR
VERSION:2.0
PRODID:-//demosphere.net//NONSGML kigkonsult.se iCalcreator 2.22.1//
METHOD:REQUEST
X-WR-TIMEZONE:Europe/Paris
BEGIN:VEVENT
UID:https://safe.tarn.demosphere.net/rv/7093
DTSTAMP:20170426T180000Z
DESCRIPTION:plus d'infos sur : https://safe.tarn.demosphere.net/rv/7093
DTSTART:20170426T180000Z
DTEND:20170426T190000Z
GEO:+43.759597;+1.988911
LOCATION:Graulhet\, \nParc de la Bousquetarié \nGraulhet
SUMMARY:réunion préparer stand biocybèle solidarité migrant graulhet
URL:https://safe.tarn.demosphere.net/rv/7093
END:VEVENT
END:VCALENDAR
