BEGIN:VCALENDAR
VERSION:2.0
PRODID:-//demosphere.net//NONSGML kigkonsult.se iCalcreator 2.22.1//
METHOD:REQUEST
X-WR-TIMEZONE:Europe/Paris
BEGIN:VEVENT
UID:https://safe.tarn.demosphere.net/rv/708
DTSTAMP:20121123T200000Z
DESCRIPTION:plus d'infos sur : https://safe.tarn.demosphere.net/rv/708
DTSTART:20121123T200000Z
DTEND:20121123T210000Z
GEO:+43.759597;+1.988911
LOCATION:Graulhet\, \nParc de la Bousquetarié \nGraulhet
SUMMARY:Soirée courts métrages
URL:https://safe.tarn.demosphere.net/rv/708
END:VEVENT
END:VCALENDAR
