BEGIN:VCALENDAR
VERSION:2.0
PRODID:-//demosphere.net//NONSGML kigkonsult.se iCalcreator 2.22.1//
METHOD:REQUEST
X-WR-TIMEZONE:Europe/Paris
BEGIN:VEVENT
UID:https://safe.tarn.demosphere.net/rv/633
DTSTAMP:20121027T120000Z
DESCRIPTION:plus d'infos sur : https://safe.tarn.demosphere.net/rv/633
DTSTART:20121027T120000Z
DTEND:20121027T130000Z
GEO:+43.759597;+1.988911
LOCATION:Graulhet\, \nParc de la Bousquetarié \nGraulhet
SUMMARY:Fête d'ATTAC-Tarn
URL:https://safe.tarn.demosphere.net/rv/633
END:VEVENT
END:VCALENDAR
