BEGIN:VCALENDAR
VERSION:2.0
PRODID:-//demosphere.net//NONSGML kigkonsult.se iCalcreator 2.22.1//
METHOD:REQUEST
X-WR-TIMEZONE:Europe/Paris
BEGIN:VEVENT
UID:https://safe.tarn.demosphere.net/rv/6067
DTSTAMP:20161120T090000Z
DESCRIPTION:plus d'infos sur : https://safe.tarn.demosphere.net/rv/6067
DTSTART:20161120T090000Z
DTEND:20161120T100000Z
GEO:+43.759597;+1.988911
LOCATION:Graulhet\, \nParc de la Bousquetarié \nGraulhet
SUMMARY:Festival Traversées africaines 2016
URL:https://safe.tarn.demosphere.net/rv/6067
END:VEVENT
END:VCALENDAR
