BEGIN:VCALENDAR
VERSION:2.0
PRODID:-//demosphere.net//NONSGML kigkonsult.se iCalcreator 2.22.1//
METHOD:REQUEST
X-WR-TIMEZONE:Europe/Paris
BEGIN:VEVENT
UID:https://safe.tarn.demosphere.net/rv/5987
DTSTAMP:20161206T180000Z
DESCRIPTION:plus d'infos sur : https://safe.tarn.demosphere.net/rv/5987
DTSTART:20161206T180000Z
DTEND:20161206T190000Z
GEO:+43.759597;+1.988911
LOCATION:Graulhet\, \nParc de la Bousquetarié \nGraulhet
SUMMARY:conférence débat avec PMO et l'observatoire de l'évolution
URL:https://safe.tarn.demosphere.net/rv/5987
END:VEVENT
END:VCALENDAR
