BEGIN:VCALENDAR
VERSION:2.0
PRODID:-//demosphere.net//NONSGML kigkonsult.se iCalcreator 2.22.1//
METHOD:REQUEST
X-WR-TIMEZONE:Europe/Paris
BEGIN:VEVENT
UID:https://safe.tarn.demosphere.net/rv/5949
DTSTAMP:20161216T200000Z
DESCRIPTION:plus d'infos sur : https://safe.tarn.demosphere.net/rv/5949
DTSTART:20161216T200000Z
DTEND:20161216T210000Z
GEO:+43.759597;+1.988911
LOCATION:Graulhet\, \nParc de la Bousquetarié \nGraulhet
SUMMARY:Nuit du court métrage avec Fabrice Godard
URL:https://safe.tarn.demosphere.net/rv/5949
END:VEVENT
END:VCALENDAR
