BEGIN:VCALENDAR
VERSION:2.0
PRODID:-//demosphere.net//NONSGML kigkonsult.se iCalcreator 2.22.1//
METHOD:REQUEST
X-WR-TIMEZONE:Europe/Paris
BEGIN:VEVENT
UID:https://safe.tarn.demosphere.net/rv/5948
DTSTAMP:20161208T193000Z
DESCRIPTION:plus d'infos sur : https://safe.tarn.demosphere.net/rv/5948
DTSTART:20161208T193000Z
DTEND:20161208T203000Z
GEO:+43.759597;+1.988911
LOCATION:Graulhet\, \nParc de la Bousquetarié \nGraulhet
SUMMARY:Concert DALTIN Trio - Le Tango de l'Autruche
URL:https://safe.tarn.demosphere.net/rv/5948
END:VEVENT
END:VCALENDAR
