BEGIN:VCALENDAR
VERSION:2.0
PRODID:-//demosphere.net//NONSGML kigkonsult.se iCalcreator 2.22.1//
METHOD:REQUEST
X-WR-TIMEZONE:Europe/Paris
BEGIN:VEVENT
UID:https://safe.tarn.demosphere.net/rv/5549
DTSTAMP:20160819T183000Z
DESCRIPTION:plus d'infos sur : https://safe.tarn.demosphere.net/rv/5549
DTSTART:20160819T183000Z
DTEND:20160819T193000Z
GEO:+44.143149;+2.1687
LOCATION:Mirandol Bourgnounac\, \nLa Grange et l'Etable\, \nLes Abraniès \n
 Mirandol bourgnounac
SUMMARY:La Clique A Pao\, chanson française
URL:https://safe.tarn.demosphere.net/rv/5549
END:VEVENT
END:VCALENDAR
