BEGIN:VCALENDAR
VERSION:2.0
PRODID:-//demosphere.net//NONSGML kigkonsult.se iCalcreator 2.22.1//
METHOD:REQUEST
X-WR-TIMEZONE:Europe/Paris
BEGIN:VEVENT
UID:https://safe.tarn.demosphere.net/rv/5438
DTSTAMP:20160715T163000Z
DESCRIPTION:plus d'infos sur : https://safe.tarn.demosphere.net/rv/5438
DTSTART:20160715T163000Z
DTEND:20160715T173000Z
LOCATION:labastide-Gabausse\, \nLabastide-Gabausse (basse)
SUMMARY:Le Pied Dans La Bassine
URL:https://safe.tarn.demosphere.net/rv/5438
END:VEVENT
END:VCALENDAR
