BEGIN:VCALENDAR
VERSION:2.0
PRODID:-//demosphere.net//NONSGML kigkonsult.se iCalcreator 2.22.1//
METHOD:REQUEST
X-WR-TIMEZONE:Europe/Paris
BEGIN:VEVENT
UID:https://safe.tarn.demosphere.net/rv/509
DTSTAMP:20120922T080000Z
DESCRIPTION:plus d'infos sur : https://safe.tarn.demosphere.net/rv/509
DTSTART:20120922T080000Z
DTEND:20120922T090000Z
GEO:+43.759597;+1.988911
LOCATION:Graulhet\, \nParc de la Bousquetarié \nGraulhet
SUMMARY:Journée autour de l'autogestion
URL:https://safe.tarn.demosphere.net/rv/509
END:VEVENT
END:VCALENDAR
