BEGIN:VCALENDAR
VERSION:2.0
PRODID:-//demosphere.net//NONSGML kigkonsult.se iCalcreator 2.22.1//
METHOD:REQUEST
X-WR-TIMEZONE:Europe/Paris
BEGIN:VEVENT
UID:https://safe.tarn.demosphere.net/rv/508
DTSTAMP:20120908T170000Z
DESCRIPTION:plus d'infos sur : https://safe.tarn.demosphere.net/rv/508
DTSTART:20120908T170000Z
DTEND:20120908T180000Z
GEO:+43.759597;+1.988911
LOCATION:Graulhet\, \nParc de la Bousquetarié \nGraulhet
SUMMARY:Soirée chorale à l'Ibère familier
URL:https://safe.tarn.demosphere.net/rv/508
END:VEVENT
END:VCALENDAR
