BEGIN:VCALENDAR
VERSION:2.0
PRODID:-//demosphere.net//NONSGML kigkonsult.se iCalcreator 2.22.1//
METHOD:REQUEST
X-WR-TIMEZONE:Europe/Paris
BEGIN:VEVENT
UID:https://safe.tarn.demosphere.net/rv/5079
DTSTAMP:20160424T183000Z
DESCRIPTION:plus d'infos sur : https://safe.tarn.demosphere.net/rv/5079
DTSTART:20160424T183000Z
DTEND:20160424T193000Z
GEO:+43.684712;+2.854679
LOCATION:Murat sur Vèbre\, \nSalle des fêtes \n81320 Murat sur Vèbre
SUMMARY:FILM 'MERCI PATRON!' débat avec Christophe Bex du réseau Fakir
URL:https://safe.tarn.demosphere.net/rv/5079
END:VEVENT
END:VCALENDAR
