BEGIN:VCALENDAR
VERSION:2.0
PRODID:-//demosphere.net//NONSGML kigkonsult.se iCalcreator 2.22.1//
METHOD:REQUEST
X-WR-TIMEZONE:Europe/Paris
BEGIN:VEVENT
UID:https://safe.tarn.demosphere.net/rv/4921
DTSTAMP:20160402T183000Z
DESCRIPTION:plus d'infos sur : https://safe.tarn.demosphere.net/rv/4921
DTSTART:20160402T183000Z
DTEND:20160402T193000Z
GEO:+43.759597;+1.988911
LOCATION:Graulhet\, \nParc de la Bousquetarié \nGraulhet
SUMMARY:Coopératives contre Capitalisme'
URL:https://safe.tarn.demosphere.net/rv/4921
END:VEVENT
END:VCALENDAR
