BEGIN:VCALENDAR
VERSION:2.0
PRODID:-//demosphere.net//NONSGML kigkonsult.se iCalcreator 2.22.1//
METHOD:REQUEST
X-WR-TIMEZONE:Europe/Paris
BEGIN:VEVENT
UID:https://safe.tarn.demosphere.net/rv/4827
DTSTAMP:20160710T070000Z
DESCRIPTION:plus d'infos sur : https://safe.tarn.demosphere.net/rv/4827
DTSTART:20160710T070000Z
DTEND:20160710T080000Z
GEO:+44.147623;+1.96703
LOCATION:Laguépie\, \nVillage de Laguépie\, Tarn-et-Garonne (82)
SUMMARY:Université Occitane d'été de Laguépie (82)
URL:https://safe.tarn.demosphere.net/rv/4827
END:VEVENT
END:VCALENDAR
