BEGIN:VCALENDAR
VERSION:2.0
PRODID:-//demosphere.net//NONSGML kigkonsult.se iCalcreator 2.22.1//
METHOD:REQUEST
X-WR-TIMEZONE:Europe/Paris
BEGIN:VEVENT
UID:https://safe.tarn.demosphere.net/rv/4716
DTSTAMP:20160304T193000Z
DESCRIPTION:plus d'infos sur : https://safe.tarn.demosphere.net/rv/4716
DTSTART:20160304T193000Z
DTEND:20160304T203000Z
GEO:+43.684712;+2.854679
LOCATION:Murat sur Vèbre\, \nSalle des fêtes \n81320 Murat sur Vèbre
SUMMARY:Marc Dufumier :'Quels modèles agricoles pour nourrir la planète?'
URL:https://safe.tarn.demosphere.net/rv/4716
END:VEVENT
END:VCALENDAR
