BEGIN:VCALENDAR
VERSION:2.0
PRODID:-//demosphere.net//NONSGML kigkonsult.se iCalcreator 2.22.1//
METHOD:REQUEST
X-WR-TIMEZONE:Europe/Paris
BEGIN:VEVENT
UID:https://safe.tarn.demosphere.net/rv/4685
DTSTAMP:20160603T190000Z
DESCRIPTION:plus d'infos sur : https://safe.tarn.demosphere.net/rv/4685
DTSTART:20160603T190000Z
DTEND:20160603T200000Z
GEO:+43.759597;+1.988911
LOCATION:Graulhet\, \nParc de la Bousquetarié \nGraulhet
SUMMARY:Mike Starnight - Concert burlesque
URL:https://safe.tarn.demosphere.net/rv/4685
END:VEVENT
END:VCALENDAR
