BEGIN:VCALENDAR
VERSION:2.0
PRODID:-//demosphere.net//NONSGML kigkonsult.se iCalcreator 2.22.1//
METHOD:REQUEST
X-WR-TIMEZONE:Europe/Paris
BEGIN:VEVENT
UID:https://safe.tarn.demosphere.net/rv/4681
DTSTAMP:20160415T190000Z
DESCRIPTION:plus d'infos sur : https://safe.tarn.demosphere.net/rv/4681
DTSTART:20160415T190000Z
DTEND:20160415T200000Z
GEO:+43.759597;+1.988911
LOCATION:Graulhet\, \nParc de la Bousquetarié \nGraulhet
SUMMARY:Projection de courts métrages par Le Colporteur d'Images
URL:https://safe.tarn.demosphere.net/rv/4681
END:VEVENT
END:VCALENDAR
