BEGIN:VCALENDAR
VERSION:2.0
PRODID:-//demosphere.net//NONSGML kigkonsult.se iCalcreator 2.22.1//
METHOD:REQUEST
X-WR-TIMEZONE:Europe/Paris
BEGIN:VEVENT
UID:https://safe.tarn.demosphere.net/rv/4677
DTSTAMP:20160320T150000Z
DESCRIPTION:plus d'infos sur : https://safe.tarn.demosphere.net/rv/4677
DTSTART:20160320T150000Z
DTEND:20160320T160000Z
GEO:+43.759597;+1.988911
LOCATION:Graulhet\, \nParc de la Bousquetarié \nGraulhet
SUMMARY:Rita Bagout - Conférence musicale jeune public
URL:https://safe.tarn.demosphere.net/rv/4677
END:VEVENT
END:VCALENDAR
