BEGIN:VCALENDAR
VERSION:2.0
PRODID:-//demosphere.net//NONSGML kigkonsult.se iCalcreator 2.22.1//
METHOD:REQUEST
X-WR-TIMEZONE:Europe/Paris
BEGIN:VEVENT
UID:https://safe.tarn.demosphere.net/rv/4676
DTSTAMP:20160311T200000Z
DESCRIPTION:plus d'infos sur : https://safe.tarn.demosphere.net/rv/4676
DTSTART:20160311T200000Z
DTEND:20160311T210000Z
GEO:+43.759597;+1.988911
LOCATION:Graulhet\, \nParc de la Bousquetarié \nGraulhet
SUMMARY:Cie de l'Autre - Toute la mer du monde
URL:https://safe.tarn.demosphere.net/rv/4676
END:VEVENT
END:VCALENDAR
