BEGIN:VCALENDAR
VERSION:2.0
PRODID:-//demosphere.net//NONSGML kigkonsult.se iCalcreator 2.22.1//
METHOD:REQUEST
X-WR-TIMEZONE:Europe/Paris
BEGIN:VEVENT
UID:https://safe.tarn.demosphere.net/rv/4506
DTSTAMP:20160116T170000Z
DESCRIPTION:plus d'infos sur : https://safe.tarn.demosphere.net/rv/4506
DTSTART:20160116T170000Z
DTEND:20160116T180000Z
GEO:+43.759597;+1.988911
LOCATION:Graulhet\, \nParc de la Bousquetarié \nGraulhet
SUMMARY:Présentation de Saxifragen°3
URL:https://safe.tarn.demosphere.net/rv/4506
END:VEVENT
END:VCALENDAR
