BEGIN:VCALENDAR
VERSION:2.0
PRODID:-//demosphere.net//NONSGML kigkonsult.se iCalcreator 2.22.1//
METHOD:REQUEST
X-WR-TIMEZONE:Europe/Paris
BEGIN:VEVENT
UID:https://safe.tarn.demosphere.net/rv/4144
DTSTAMP:20151010T183000Z
DESCRIPTION:plus d'infos sur : https://safe.tarn.demosphere.net/rv/4144
DTSTART:20151010T183000Z
DTEND:20151010T193000Z
GEO:+43.684712;+2.854679
LOCATION:Murat sur Vèbre\, \nSalle des fêtes \n81320 Murat sur Vèbre
SUMMARY:Ciné-débat 'En quête de sens'
URL:https://safe.tarn.demosphere.net/rv/4144
END:VEVENT
END:VCALENDAR
