BEGIN:VCALENDAR
VERSION:2.0
PRODID:-//demosphere.net//NONSGML kigkonsult.se iCalcreator 2.22.1//
METHOD:REQUEST
X-WR-TIMEZONE:Europe/Paris
BEGIN:VEVENT
UID:https://safe.tarn.demosphere.net/rv/3990
DTSTAMP:20150926T073000Z
DESCRIPTION:plus d'infos sur : https://safe.tarn.demosphere.net/rv/3990
DTSTART:20150926T073000Z
DTEND:20150926T083000Z
GEO:+43.759597;+1.988911
LOCATION:Graulhet\, \nParc de la Bousquetarié \nGraulhet
SUMMARY: journée: Se Passer de patron ? Chiche !
URL:https://safe.tarn.demosphere.net/rv/3990
END:VEVENT
END:VCALENDAR
