BEGIN:VCALENDAR
VERSION:2.0
PRODID:-//demosphere.net//NONSGML kigkonsult.se iCalcreator 2.22.1//
METHOD:REQUEST
X-WR-TIMEZONE:Europe/Paris
BEGIN:VEVENT
UID:https://safe.tarn.demosphere.net/rv/399
DTSTAMP:20120629T190000Z
DESCRIPTION:plus d'infos sur : https://safe.tarn.demosphere.net/rv/399
DTSTART:20120629T190000Z
DTEND:20120629T200000Z
GEO:+43.759597;+1.988911
LOCATION:Graulhet\, \nParc de la Bousquetarié \nGraulhet
SUMMARY:Soirée vidéophages à l'ibère familier
URL:https://safe.tarn.demosphere.net/rv/399
END:VEVENT
END:VCALENDAR
