BEGIN:VCALENDAR
VERSION:2.0
PRODID:-//demosphere.net//NONSGML kigkonsult.se iCalcreator 2.22.1//
METHOD:REQUEST
X-WR-TIMEZONE:Europe/Paris
BEGIN:VEVENT
UID:https://safe.tarn.demosphere.net/rv/3895
DTSTAMP:20150627T170000Z
DESCRIPTION:plus d'infos sur : https://safe.tarn.demosphere.net/rv/3895
DTSTART:20150627T170000Z
DTEND:20150627T180000Z
GEO:+44.143149;+2.1687
LOCATION:Mirandol Bourgnounac\, \nmirandol bourgnounac
SUMMARY:humour et chanson  avec le duo bric et broc
URL:https://safe.tarn.demosphere.net/rv/3895
END:VEVENT
END:VCALENDAR
