BEGIN:VCALENDAR
VERSION:2.0
PRODID:-//demosphere.net//NONSGML kigkonsult.se iCalcreator 2.22.1//
METHOD:REQUEST
X-WR-TIMEZONE:Europe/Paris
BEGIN:VEVENT
UID:https://safe.tarn.demosphere.net/rv/3757
DTSTAMP:20150523T173000Z
DESCRIPTION:plus d'infos sur : https://safe.tarn.demosphere.net/rv/3757
DTSTART:20150523T173000Z
DTEND:20150523T183000Z
GEO:+43.759597;+1.988911
LOCATION:Graulhet\, \nParc de la Bousquetarié \nGraulhet
SUMMARY:Soirée concert  de  soutien au collectif citoyen de Graulhet
URL:https://safe.tarn.demosphere.net/rv/3757
END:VEVENT
END:VCALENDAR
