BEGIN:VCALENDAR
VERSION:2.0
PRODID:-//demosphere.net//NONSGML kigkonsult.se iCalcreator 2.22.1//
METHOD:REQUEST
X-WR-TIMEZONE:Europe/Paris
BEGIN:VEVENT
UID:https://safe.tarn.demosphere.net/rv/3546
DTSTAMP:20150404T183000Z
DESCRIPTION:plus d'infos sur : https://safe.tarn.demosphere.net/rv/3546
DTSTART:20150404T183000Z
DTEND:20150404T193000Z
GEO:+44.07285;+1.801892
LOCATION:Vaour\, \nLe Muret
SUMMARY:concert Caussimon pour RESF
URL:https://safe.tarn.demosphere.net/rv/3546
END:VEVENT
END:VCALENDAR
