BEGIN:VCALENDAR
VERSION:2.0
PRODID:-//demosphere.net//NONSGML kigkonsult.se iCalcreator 2.22.1//
METHOD:REQUEST
X-WR-TIMEZONE:Europe/Paris
BEGIN:VEVENT
UID:https://safe.tarn.demosphere.net/rv/3282
DTSTAMP:20141212T193000Z
DESCRIPTION:plus d'infos sur : https://safe.tarn.demosphere.net/rv/3282
DTSTART:20141212T193000Z
DTEND:20141212T203000Z
GEO:+43.759597;+1.988911
LOCATION:Graulhet\, \nParc de la Bousquetarié \nGraulhet
SUMMARY:projection du film  « AMEN TON PÈZE » suivi d'un débat
URL:https://safe.tarn.demosphere.net/rv/3282
END:VEVENT
END:VCALENDAR
