BEGIN:VCALENDAR
VERSION:2.0
PRODID:-//demosphere.net//NONSGML kigkonsult.se iCalcreator 2.22.1//
METHOD:REQUEST
X-WR-TIMEZONE:Europe/Paris
BEGIN:VEVENT
UID:https://safe.tarn.demosphere.net/rv/317
DTSTAMP:20120525T190000Z
DESCRIPTION:plus d'infos sur : https://safe.tarn.demosphere.net/rv/317
DTSTART:20120525T190000Z
DTEND:20120525T200000Z
GEO:+43.759597;+1.988911
LOCATION:Graulhet\, \nParc de la Bousquetarié \nGraulhet
SUMMARY:Concert : Nicolas Dorléans (guitare)
URL:https://safe.tarn.demosphere.net/rv/317
END:VEVENT
END:VCALENDAR
