BEGIN:VCALENDAR
VERSION:2.0
PRODID:-//demosphere.net//NONSGML kigkonsult.se iCalcreator 2.22.1//
METHOD:REQUEST
X-WR-TIMEZONE:Europe/Paris
BEGIN:VEVENT
UID:https://safe.tarn.demosphere.net/rv/3112
DTSTAMP:20141114T200000Z
DESCRIPTION:plus d'infos sur : https://safe.tarn.demosphere.net/rv/3112
DTSTART:20141114T200000Z
DTEND:20141114T210000Z
GEO:+43.759597;+1.988911
LOCATION:Graulhet\, \nParc de la Bousquetarié \nGraulhet
SUMMARY:Concert The Soul Papaz
URL:https://safe.tarn.demosphere.net/rv/3112
END:VEVENT
END:VCALENDAR
