BEGIN:VCALENDAR
VERSION:2.0
PRODID:-//demosphere.net//NONSGML kigkonsult.se iCalcreator 2.22.1//
METHOD:REQUEST
X-WR-TIMEZONE:Europe/Paris
BEGIN:VEVENT
UID:https://safe.tarn.demosphere.net/rv/2891
DTSTAMP:20141005T183000Z
DESCRIPTION:plus d'infos sur : https://safe.tarn.demosphere.net/rv/2891
DTSTART:20141005T183000Z
DTEND:20141005T193000Z
GEO:+43.684712;+2.854679
LOCATION:Murat sur Vèbre\, \nSalle des fêtes \n81320 Murat sur Vèbre
SUMMARY:Projection en Avant-Première du documentaire Spartacus et Cassandra
URL:https://safe.tarn.demosphere.net/rv/2891
END:VEVENT
END:VCALENDAR
