BEGIN:VCALENDAR
VERSION:2.0
PRODID:-//demosphere.net//NONSGML kigkonsult.se iCalcreator 2.22.1//
METHOD:REQUEST
X-WR-TIMEZONE:Europe/Paris
BEGIN:VEVENT
UID:https://safe.tarn.demosphere.net/rv/263
DTSTAMP:20120502T160000Z
DESCRIPTION:plus d'infos sur : https://safe.tarn.demosphere.net/rv/263
DTSTART:20120502T160000Z
DTEND:20120502T170000Z
GEO:+43.759597;+1.988911
LOCATION:Graulhet\, \nParc de la Bousquetarié \nGraulhet
SUMMARY:Réunion du Front de gauche
URL:https://safe.tarn.demosphere.net/rv/263
END:VEVENT
END:VCALENDAR
