BEGIN:VCALENDAR
VERSION:2.0
PRODID:-//demosphere.net//NONSGML kigkonsult.se iCalcreator 2.22.1//
METHOD:REQUEST
X-WR-TIMEZONE:Europe/Paris
BEGIN:VEVENT
UID:https://safe.tarn.demosphere.net/rv/25088
DTSTAMP:20260509T190000Z
DESCRIPTION:plus d'infos sur : https://safe.tarn.demosphere.net/rv/25088
DTSTART:20260509T190000Z
DTEND:20260509T200000Z
GEO:+43.705878;+2.137737
LOCATION:Lautrec\, \nCafé Plum \n12\, rue Lengouzy \n81440 Lautrec
SUMMARY:Alsimi en concert// Electro-maloya
URL:https://safe.tarn.demosphere.net/rv/25088
END:VEVENT
END:VCALENDAR
