BEGIN:VCALENDAR
VERSION:2.0
PRODID:-//demosphere.net//NONSGML kigkonsult.se iCalcreator 2.22.1//
METHOD:REQUEST
X-WR-TIMEZONE:Europe/Paris
BEGIN:VEVENT
UID:https://safe.tarn.demosphere.net/rv/25082
DTSTAMP:20260430T160000Z
DESCRIPTION:plus d'infos sur : https://safe.tarn.demosphere.net/rv/25082
DTSTART:20260430T160000Z
DTEND:20260430T170000Z
LOCATION:Le Séquestre\, \nle parking du Quartz
SUMMARY:Information AMAP du Carrofoul Le Sequestre
URL:https://safe.tarn.demosphere.net/rv/25082
END:VEVENT
END:VCALENDAR
