BEGIN:VCALENDAR
VERSION:2.0
PRODID:-//demosphere.net//NONSGML kigkonsult.se iCalcreator 2.22.1//
METHOD:REQUEST
X-WR-TIMEZONE:Europe/Paris
BEGIN:VEVENT
UID:https://safe.tarn.demosphere.net/rv/25080
DTSTAMP:20260426T160000Z
DESCRIPTION:plus d'infos sur : https://safe.tarn.demosphere.net/rv/25080
DTSTART:20260426T160000Z
DTEND:20260426T170000Z
LOCATION:Gaillac\, \nLe Riad Occitan Hôtel particulier d'inspiration orient
 ale 4 Rue Pujol\,
SUMMARY:musique acoustique  Lakhdar Hanou : Levant D'Autant et L’Odyssée de
  Noūr
URL:https://safe.tarn.demosphere.net/rv/25080
END:VEVENT
END:VCALENDAR
