BEGIN:VCALENDAR
VERSION:2.0
PRODID:-//demosphere.net//NONSGML kigkonsult.se iCalcreator 2.22.1//
METHOD:REQUEST
X-WR-TIMEZONE:Europe/Paris
BEGIN:VEVENT
UID:https://safe.tarn.demosphere.net/rv/25079
DTSTAMP:20260429T163000Z
DESCRIPTION:plus d'infos sur : https://safe.tarn.demosphere.net/rv/25079
DTSTART:20260429T163000Z
DTEND:20260429T173000Z
GEO:+43.602314;+2.253392
LOCATION:Castres\, \nLa Table des Ateliers \n22\, rue Mérigonde \n81100 Cas
 tres
SUMMARY:Envol Vert et le PIAF recherche des bénévoles ! Rdv à La Table des 
 Ateliers !
URL:https://safe.tarn.demosphere.net/rv/25079
END:VEVENT
END:VCALENDAR
