BEGIN:VCALENDAR
VERSION:2.0
PRODID:-//demosphere.net//NONSGML kigkonsult.se iCalcreator 2.22.1//
METHOD:REQUEST
X-WR-TIMEZONE:Europe/Paris
BEGIN:VEVENT
UID:https://safe.tarn.demosphere.net/rv/25057
DTSTAMP:20260430T183000Z
DESCRIPTION:plus d'infos sur : https://safe.tarn.demosphere.net/rv/25057
DTSTART:20260430T183000Z
DTEND:20260430T193000Z
GEO:+44.049492;+2.157476
LOCATION:Carmaux\, \nClap-Ciné Carmaux \n3 avenue Jean Jaurès \n81400 Carma
 ux
SUMMARY:documentaire 'Fenwick réconciliation populaire'
URL:https://safe.tarn.demosphere.net/rv/25057
END:VEVENT
END:VCALENDAR
