BEGIN:VCALENDAR
VERSION:2.0
PRODID:-//demosphere.net//NONSGML kigkonsult.se iCalcreator 2.22.1//
METHOD:REQUEST
X-WR-TIMEZONE:Europe/Paris
BEGIN:VEVENT
UID:https://safe.tarn.demosphere.net/rv/25053
DTSTAMP:20260602T160000Z
DESCRIPTION:plus d'infos sur : https://safe.tarn.demosphere.net/rv/25053
DTSTART:20260602T160000Z
DTEND:20260602T170000Z
GEO:+44.147623;+1.96703
LOCATION:Laguépie\, \nVillage de Laguépie\, Tarn-et-Garonne (82)
SUMMARY:- TOGETHER - Formation européenne pour promouvoir et faciliter l'ac
 tion collective
URL:https://safe.tarn.demosphere.net/rv/25053
END:VEVENT
END:VCALENDAR
