BEGIN:VCALENDAR
VERSION:2.0
PRODID:-//demosphere.net//NONSGML kigkonsult.se iCalcreator 2.22.1//
METHOD:REQUEST
X-WR-TIMEZONE:Europe/Paris
BEGIN:VEVENT
UID:https://safe.tarn.demosphere.net/rv/25052
DTSTAMP:20260613T140000Z
DESCRIPTION:plus d'infos sur : https://safe.tarn.demosphere.net/rv/25052
DTSTART:20260613T140000Z
DTEND:20260613T150000Z
GEO:+43.904842;+2.14059
LOCATION:Albi\, \nQuartier de Ranteil \n3\, chemin de Ranteil \n81000 ALBI
SUMMARY:Journee Ultragama + Coucibass + Vox Lab Studio [Autour du Chantier]
URL:https://safe.tarn.demosphere.net/rv/25052
END:VEVENT
END:VCALENDAR
