BEGIN:VCALENDAR
VERSION:2.0
PRODID:-//demosphere.net//NONSGML kigkonsult.se iCalcreator 2.22.1//
METHOD:REQUEST
X-WR-TIMEZONE:Europe/Paris
BEGIN:VEVENT
UID:https://safe.tarn.demosphere.net/rv/25049
DTSTAMP:20260424T170000Z
DESCRIPTION:plus d'infos sur : https://safe.tarn.demosphere.net/rv/25049
DTSTART:20260424T170000Z
DTEND:20260424T180000Z
GEO:+44.050936;+2.158272
LOCATION:Carmaux\, \nCafé Dynamo \nAvenue Albert Thomas \n81400 Carmaux
SUMMARY:Diner-Concert François NKWELE au Café Dynamo
URL:https://safe.tarn.demosphere.net/rv/25049
END:VEVENT
END:VCALENDAR
