BEGIN:VCALENDAR
VERSION:2.0
PRODID:-//demosphere.net//NONSGML kigkonsult.se iCalcreator 2.22.1//
METHOD:REQUEST
X-WR-TIMEZONE:Europe/Paris
BEGIN:VEVENT
UID:https://safe.tarn.demosphere.net/rv/25041
DTSTAMP:20260514T123000Z
DESCRIPTION:plus d'infos sur : https://safe.tarn.demosphere.net/rv/25041
DTSTART:20260514T123000Z
DTEND:20260514T133000Z
GEO:+43.977293;+2.294829
LOCATION:Andouque\, \nLa Passemarié \n81350 Andouque
SUMMARY:Rando Yoga nature
URL:https://safe.tarn.demosphere.net/rv/25041
END:VEVENT
END:VCALENDAR
