BEGIN:VCALENDAR
VERSION:2.0
PRODID:-//demosphere.net//NONSGML kigkonsult.se iCalcreator 2.22.1//
METHOD:REQUEST
X-WR-TIMEZONE:Europe/Paris
BEGIN:VEVENT
UID:https://safe.tarn.demosphere.net/rv/25040
DTSTAMP:20260508T080000Z
DESCRIPTION:plus d'infos sur : https://safe.tarn.demosphere.net/rv/25040
DTSTART:20260508T080000Z
DTEND:20260508T090000Z
GEO:+43.977293;+2.294829
LOCATION:Andouque\, \nLa Passemarié \n81350 Andouque
SUMMARY:Atelier Les super pouvoirs des graines germées
URL:https://safe.tarn.demosphere.net/rv/25040
END:VEVENT
END:VCALENDAR
