BEGIN:VCALENDAR
VERSION:2.0
PRODID:-//demosphere.net//NONSGML kigkonsult.se iCalcreator 2.22.1//
METHOD:REQUEST
X-WR-TIMEZONE:Europe/Paris
BEGIN:VEVENT
UID:https://safe.tarn.demosphere.net/rv/25034
DTSTAMP:20260428T163000Z
DESCRIPTION:plus d'infos sur : https://safe.tarn.demosphere.net/rv/25034
DTSTART:20260428T163000Z
DTEND:20260428T173000Z
GEO:+44.049532;+2.159404
LOCATION:Carmaux\, \nCafé-hôtel Gambetta \n1\, rue Voltaire \n81400 Carmaux
SUMMARY:Réunion du Groupe d'éducation populaire du Ségala Carmausin
URL:https://safe.tarn.demosphere.net/rv/25034
END:VEVENT
END:VCALENDAR
